BEGIN:VCALENDAR
VERSION:2.0
PRODID:-//Spreebote Online - ECPv6.15.15//NONSGML v1.0//EN
CALSCALE:GREGORIAN
METHOD:PUBLISH
X-ORIGINAL-URL:https://spreebote.de
X-WR-CALDESC:Veranstaltungen für Spreebote Online
REFRESH-INTERVAL;VALUE=DURATION:PT1H
X-Robots-Tag:noindex
X-PUBLISHED-TTL:PT1H
BEGIN:VTIMEZONE
TZID:Europe/Berlin
BEGIN:DAYLIGHT
TZOFFSETFROM:+0100
TZOFFSETTO:+0200
TZNAME:CEST
DTSTART:20250330T010000
END:DAYLIGHT
BEGIN:STANDARD
TZOFFSETFROM:+0200
TZOFFSETTO:+0100
TZNAME:CET
DTSTART:20251026T010000
END:STANDARD
BEGIN:DAYLIGHT
TZOFFSETFROM:+0100
TZOFFSETTO:+0200
TZNAME:CEST
DTSTART:20260329T010000
END:DAYLIGHT
BEGIN:STANDARD
TZOFFSETFROM:+0200
TZOFFSETTO:+0100
TZNAME:CET
DTSTART:20261025T010000
END:STANDARD
BEGIN:DAYLIGHT
TZOFFSETFROM:+0100
TZOFFSETTO:+0200
TZNAME:CEST
DTSTART:20270328T010000
END:DAYLIGHT
BEGIN:STANDARD
TZOFFSETFROM:+0200
TZOFFSETTO:+0100
TZNAME:CET
DTSTART:20271031T010000
END:STANDARD
END:VTIMEZONE
BEGIN:VEVENT
DTSTART;TZID=Europe/Berlin:20260423T160000
DTEND;TZID=Europe/Berlin:20260423T180000
DTSTAMP:20260424T065821
CREATED:20260417T065701Z
LAST-MODIFIED:20260417T065701Z
UID:160612-1776960000-1776967200@spreebote.de
SUMMARY:Starkregen im Fokus
DESCRIPTION:Beeskow lädt zum Bürgeraustausch ein\n\nWie kann sich die Stadt Beeskow besser auf zunehmendeStarkregenereignisse ...   Weiterlesen
URL:https://spreebote.de/veranstaltung/starkregen-im-fokus/
LOCATION:Fontane Grundschule\, Theodor-Fontane Straße 9\, Beeskow\, Brandenburg\, 15848\, Germany
END:VEVENT
BEGIN:VEVENT
DTSTART;TZID=Europe/Berlin:20260423T160000
DTEND;TZID=Europe/Berlin:20260423T180000
DTSTAMP:20260424T065821
CREATED:20260417T065345Z
LAST-MODIFIED:20260417T065345Z
UID:160606-1776960000-1776967200@spreebote.de
SUMMARY:Sicher unterwegs mit Kind  
DESCRIPTION:Workshop rund um Kindersitze\n\nWenn Kinder mitfahren\, wird jede Strecke zur Herzensangelegenheit. Umso wichtiger ist es\, sie im Alltag bestmöglich ...   Weiterlesen
URL:https://spreebote.de/veranstaltung/sicher-unterwegs-mit-kind/
LOCATION:Kurt-Kattanek-Haus\, Seestraße 38\, Erkner\, Brandenburg\, Germany
END:VEVENT
BEGIN:VEVENT
DTSTART;TZID=Europe/Berlin:20260418T090000
DTEND;TZID=Europe/Berlin:20260419T180000
DTSTAMP:20260424T065821
CREATED:20260417T065543Z
LAST-MODIFIED:20260417T065543Z
UID:160609-1776502800-1776621600@spreebote.de
SUMMARY:3.Mammoth Bowl Fürstenwalde
DESCRIPTION:Zwei Tage voller Action\, Teamgeist und Emotionen\n\nDie Vorbereitungen für den kommenden 3. Fürstenwalder MammothBowl ...   Weiterlesen
URL:https://spreebote.de/veranstaltung/3-mammoth-bowl-fuerstenwalde/
LOCATION:Rudolf-Harbig-Stadion\, Karl-Liebknecht-Straße\, Fürstenwalde\, Brandenburg\, 15517\, Germany
END:VEVENT
BEGIN:VEVENT
DTSTART;TZID=Europe/Berlin:20260326T080000
DTEND;TZID=Europe/Berlin:20260326T170000
DTSTAMP:20260424T065821
CREATED:20260326T111436Z
LAST-MODIFIED:20260326T111436Z
UID:159658-1774512000-1774544400@spreebote.de
SUMMARY:Zwei Meisterwerke & zwei Jubiläen
DESCRIPTION:Ruth Zechlin und Carl Maria von Weber im Konzert\n\nZwei bedeutende Musikerpersönlichkeiten ehrt die Deutsche Philharmonische Akademie mit ihrem Konzert am 23.Juni um 19 Uhr in der Berliner ...   Weiterlesen
URL:https://spreebote.de/veranstaltung/zwei-meisterwerke-zwei-jubilaeen/
LOCATION:Berliner Philharmonie\, Herbert-von-Karajan-Str. 1\, Berlin\, Berlin\, 10785\, Germany
END:VEVENT
BEGIN:VEVENT
DTSTART;TZID=Europe/Berlin:20260326T080000
DTEND;TZID=Europe/Berlin:20260326T170000
DTSTAMP:20260424T065821
CREATED:20260326T111326Z
LAST-MODIFIED:20260326T111326Z
UID:159655-1774512000-1774544400@spreebote.de
SUMMARY:Operetten Revue
DESCRIPTION:Ein heiteres Konzert mit beliebten\nOperettenmelodien\, Berliner Witz & Humor! \n\nOperettenliebhaber dürfen sich auf einen unvergesslichen Abend freuen\, ...   Weiterlesen
URL:https://spreebote.de/veranstaltung/operetten-revue/
LOCATION:Haus des Gastes\, Kleine Promenade 1\, Wendisch Rietz\, Brandenburg\, Germany
END:VEVENT
BEGIN:VEVENT
DTSTART;TZID=Europe/Berlin:20260314T200000
DTEND;TZID=Europe/Berlin:20260314T233000
DTSTAMP:20260424T065821
CREATED:20260212T124952Z
LAST-MODIFIED:20260212T124952Z
UID:156795-1773518400-1773531000@spreebote.de
SUMMARY:Storkower Frauenwochen Programm - Storkow tanzt: Mädelsabend in der Darre
DESCRIPTION:Eine ausgelassene Partynacht wartet auf die Tanzfreudigen. DJ Dome bringt mit einem energiegeladenen Mix aus aktuellen Hits und beliebten ...   Weiterlesen
URL:https://spreebote.de/veranstaltung/storkower-frauenwochen-programm-storkow-tanzt-maedelsabend-in-der-darre/
LOCATION:Brandenburg
END:VEVENT
BEGIN:VEVENT
DTSTART;TZID=Europe/Berlin:20260314T190000
DTEND;TZID=Europe/Berlin:20260314T210000
DTSTAMP:20260424T065821
CREATED:20251113T124607Z
LAST-MODIFIED:20251113T124607Z
UID:152948-1773514800-1773522000@spreebote.de
SUMMARY:Alina Sebastian & Band I'm a mess Tour
DESCRIPTION:Weitere Informationen und Tickets: Tickets kaufen
URL:https://spreebote.de/veranstaltung/alina-sebastian-band-im-a-mess-tour/
LOCATION:Kulturfabrik Fürstenwalde\, Domplatz 7\, Fürstenwalde\, 15517\, Germany
END:VEVENT
BEGIN:VEVENT
DTSTART;TZID=Europe/Berlin:20260314T110000
DTEND;TZID=Europe/Berlin:20260314T160000
DTSTAMP:20260424T065821
CREATED:20260212T124950Z
LAST-MODIFIED:20260212T124950Z
UID:156794-1773486000-1773504000@spreebote.de
SUMMARY:Storkower Frauenwochen Programm - Burg Boutique: Second-Hand Markt für Frauen
DESCRIPTION:Verkauft wird alles was Frauenherzen höherschlagen lässt: Kleider\, Schuhe\, Accessoires. Ein Nachmittag zum Stöbern und Finden schöner ...   Weiterlesen
URL:https://spreebote.de/veranstaltung/storkower-frauenwochen-programm-burg-boutique-second-hand-markt-fuer-frauen/
LOCATION:Burg Storkow\, Schloßstr. 6\, Storkow (Mark)\, Brandenburg\, 15859\, Germany
END:VEVENT
BEGIN:VEVENT
DTSTART;TZID=Europe/Berlin:20260313T183000
DTEND;TZID=Europe/Berlin:20260313T203000
DTSTAMP:20260424T065821
CREATED:20260212T124948Z
LAST-MODIFIED:20260212T124948Z
UID:156793-1773426600-1773433800@spreebote.de
SUMMARY:Storkower Frauenwochen Programm - Workshop: Frühlings-Alchemie der Schönheit
DESCRIPTION:Jede Teilnehmerin kreiert drei ganz persönliche\, hochwertige Pflegeprodukte auf Basis natürlicher Inhaltsstoffe: ein luxuriöses Körperpeeling\, ...   Weiterlesen
URL:https://spreebote.de/veranstaltung/storkower-frauenwochen-programm-workshop-fruehlings-alchemie-der-schoenheit/
LOCATION:Brandenburg
END:VEVENT
BEGIN:VEVENT
DTSTART;TZID=Europe/Berlin:20260313T150000
DTEND;TZID=Europe/Berlin:20260313T170000
DTSTAMP:20260424T065821
CREATED:20260212T124946Z
LAST-MODIFIED:20260212T124946Z
UID:156791-1773414000-1773421200@spreebote.de
SUMMARY:Storkower Frauenwochen Programm - Tortentanz
DESCRIPTION:Bei Kaffee\, Kuchen und Torte lässt es sich wunderbar plaudern\, genießen und anschließend gemeinsam tanzen. Ein fröhlicher Nachmittag voller ...   Weiterlesen
URL:https://spreebote.de/veranstaltung/storkower-frauenwochen-programm-tortentanz/
LOCATION:Brandenburg
END:VEVENT
BEGIN:VEVENT
DTSTART;TZID=Europe/Berlin:20260312T180000
DTEND;TZID=Europe/Berlin:20260312T210000
DTSTAMP:20260424T065821
CREATED:20260212T124904Z
LAST-MODIFIED:20260212T124904Z
UID:156787-1773338400-1773349200@spreebote.de
SUMMARY:Storkower Frauenwochen Programm - Kinofilm: Dirty Dancing
DESCRIPTION:Ein prickelnder Sektempfang mit Bürgermeisterin und Gleichstellungsbeauftragter eröffnet den Abend\, bevor wir gemeinsam mit Dirty Dancing ...   Weiterlesen
URL:https://spreebote.de/veranstaltung/storkower-frauenwochen-programm-kinofilm-dirty-dancing/
LOCATION:Brandenburg
END:VEVENT
BEGIN:VEVENT
DTSTART;TZID=Europe/Berlin:20260311T180000
DTEND;TZID=Europe/Berlin:20260311T200000
DTSTAMP:20260424T065821
CREATED:20260212T124902Z
LAST-MODIFIED:20260212T124902Z
UID:156786-1773252000-1773259200@spreebote.de
SUMMARY:Storkower Frauenwochen Programm - Workshop: Frauen & ihre Kräuter
DESCRIPTION:Der Kräuter-Workshop mit Kräuterfee Regina führt in die Welt heimischer Pflanzen und ihrer wohltuenden Wirkungen. Ein Angebot\, das praktische ...   Weiterlesen
URL:https://spreebote.de/veranstaltung/storkower-frauenwochen-programm-workshop-frauen-ihre-kraeuter/
LOCATION:Burg Storkow\, Schloßstr. 6\, Storkow (Mark)\, Brandenburg\, 15859\, Germany
END:VEVENT
BEGIN:VEVENT
DTSTART;TZID=Europe/Berlin:20260311T180000
DTEND;TZID=Europe/Berlin:20260311T200000
DTSTAMP:20260424T065821
CREATED:20260212T124900Z
LAST-MODIFIED:20260212T124900Z
UID:156785-1773252000-1773259200@spreebote.de
SUMMARY:Storkower Frauenwochen Programm - Workshop: Das 1 x 1 des Filzens
DESCRIPTION:Kreativ werden und Kraft tanken: Unter Anleitung von Manuela und Sybille entstehen beim Filzen mit weicher Wolle kleine Unikate. Ein Angebot\, ...   Weiterlesen
URL:https://spreebote.de/veranstaltung/storkower-frauenwochen-programm-workshop-das-1-x-1-des-filzens/
LOCATION:Burg Storkow\, Schloßstr. 6\, Storkow (Mark)\, Brandenburg\, 15859\, Germany
END:VEVENT
BEGIN:VEVENT
DTSTART;TZID=Europe/Berlin:20260310T193000
DTEND;TZID=Europe/Berlin:20260310T210000
DTSTAMP:20260424T065821
CREATED:20260212T124858Z
LAST-MODIFIED:20260212T124858Z
UID:156784-1773171000-1773176400@spreebote.de
SUMMARY:Storkower Frauenwochen Programm - Vortrag: Starke Storkower Frauen
DESCRIPTION:Gästeführer Lutz Werner nimmt uns mit auf eine lebendige Reise in die Vergangenheit. Mit Charme\, Humor und vielen Anekdoten erzählt er ...   Weiterlesen
URL:https://spreebote.de/veranstaltung/storkower-frauenwochen-programm-vortrag-starke-storkower-frauen/
LOCATION:Brandenburg
END:VEVENT
BEGIN:VEVENT
DTSTART;TZID=Europe/Berlin:20260310T170000
DTEND;TZID=Europe/Berlin:20260310T190000
DTSTAMP:20260424T065821
CREATED:20260212T124856Z
LAST-MODIFIED:20260212T124856Z
UID:156783-1773162000-1773169200@spreebote.de
SUMMARY:Storkower Frauenwochen Programm - Workshop: Mut zur Balance
DESCRIPTION:Ein Nachmittag für Frauen\, die zwischen Alltag\, Erwartungen und eigenen Bedürfnissen wieder Balance finden wollen. Mit praktischen Übungen\, ...   Weiterlesen
URL:https://spreebote.de/veranstaltung/storkower-frauenwochen-programm-workshop-mut-zur-balance/
LOCATION:Brandenburg
END:VEVENT
BEGIN:VEVENT
DTSTART;TZID=Europe/Berlin:20260309T080000
DTEND;TZID=Europe/Berlin:20260309T170000
DTSTAMP:20260424T065821
CREATED:20260212T124848Z
LAST-MODIFIED:20260212T124848Z
UID:156782-1773043200-1773075600@spreebote.de
SUMMARY:Storkower Frauenwochen Programm - Ausflug zur Biosphäre Potsdam und zum Landtag
DESCRIPTION:Busfahrt mit der Bürgermeisterin zum Brandenburger Landtag und zur Orchideenblüte in die Biosphäre Potsdam. Besuch des Landtages\, Besichtigung ...   Weiterlesen
URL:https://spreebote.de/veranstaltung/storkower-frauenwochen-programm-ausflug-zur-biosphaere-potsdam-und-zum-landtag/
LOCATION:Brandenburg
END:VEVENT
BEGIN:VEVENT
DTSTART;TZID=Europe/Berlin:20260308T190000
DTEND;TZID=Europe/Berlin:20260308T210000
DTSTAMP:20260424T065821
CREATED:20260212T124841Z
LAST-MODIFIED:20260212T124841Z
UID:156778-1772996400-1773003600@spreebote.de
SUMMARY:Storkower Frauenwochen Programm - Schokolade - Das Konzert
DESCRIPTION:Ein Genuss für alle Sinne: Christina Rommel & Band verzaubern mit ihrer einzigartigen Musik\, während ein Chocolatier köstliche Schokoladenkreationen ...   Weiterlesen
URL:https://spreebote.de/veranstaltung/storkower-frauenwochen-programm-schokolade-das-konzert/
LOCATION:Brandenburg
END:VEVENT
BEGIN:VEVENT
DTSTART;TZID=Europe/Berlin:20260308T190000
DTEND;TZID=Europe/Berlin:20260308T210000
DTSTAMP:20260424T065821
CREATED:20251113T124604Z
LAST-MODIFIED:20251113T124604Z
UID:152947-1772996400-1773003600@spreebote.de
SUMMARY:Christina Rommel: Schokolade – Das Konzert - Das Event für alle Sinne
DESCRIPTION:Weitere Informationen und Tickets: Tickets kaufen
URL:https://spreebote.de/veranstaltung/christina-rommel-schokolade-das-konzert-das-event-fuer-alle-sinne/
LOCATION:Burg Storkow (Großer Saal)\, Schloßstraße 6\, Storkow (Mark)\, 15859
END:VEVENT
BEGIN:VEVENT
DTSTART;TZID=Europe/Berlin:20260308T123000
DTEND;TZID=Europe/Berlin:20260308T133000
DTSTAMP:20260424T065821
CREATED:20260212T124846Z
LAST-MODIFIED:20260212T124846Z
UID:156781-1772973000-1772976600@spreebote.de
SUMMARY:Storkower Frauenwochen Programm - Sport frei: Selfcare Yoga
DESCRIPTION:Eine ganz wunderbare Sonntagmittag-Auszeit zur Entspannung\, Energie tanken und Stress abbauen. Nach der Sessions werden sich die Teilnehmerinnen ...   Weiterlesen
URL:https://spreebote.de/veranstaltung/storkower-frauenwochen-programm-sport-frei-selfcare-yoga/
LOCATION:Brandenburg
END:VEVENT
BEGIN:VEVENT
DTSTART;TZID=Europe/Berlin:20260308T113000
DTEND;TZID=Europe/Berlin:20260308T121500
DTSTAMP:20260424T065821
CREATED:20260212T124845Z
LAST-MODIFIED:20260212T124845Z
UID:156780-1772969400-1772972100@spreebote.de
SUMMARY:Storkower Frauenwochen Programm - Sport frei: BodyFit
DESCRIPTION:Neben einer allgemeinen Aktivierung des Herz-Kreislaufsystems stehen die optimale Kräftigung und Dehnung der Rumpf- und Rückenmuskulatur ...   Weiterlesen
URL:https://spreebote.de/veranstaltung/storkower-frauenwochen-programm-sport-frei-bodyfit/
LOCATION:Brandenburg
END:VEVENT
BEGIN:VEVENT
DTSTART;TZID=Europe/Berlin:20260308T103000
DTEND;TZID=Europe/Berlin:20260308T111500
DTSTAMP:20260424T065821
CREATED:20260212T124843Z
LAST-MODIFIED:20260212T124843Z
UID:156779-1772965800-1772968500@spreebote.de
SUMMARY:Storkower Frauenwochen Programm - Sport frei: Zumba
DESCRIPTION:Zumba ist ein besonderes Tanz-Workout mit größten Spaßfaktor und setzt sich aus einfachen Schrittfolgen und Bewegungen zusammen. Kalorien ...   Weiterlesen
URL:https://spreebote.de/veranstaltung/storkower-frauenwochen-programm-sport-frei-zumba/
LOCATION:Brandenburg
END:VEVENT
BEGIN:VEVENT
DTSTART;TZID=Europe/Berlin:20260227T190000
DTEND;TZID=Europe/Berlin:20260227T210000
DTSTAMP:20260424T065821
CREATED:20251113T124602Z
LAST-MODIFIED:20251113T124602Z
UID:152946-1772218800-1772226000@spreebote.de
SUMMARY:Die schönsten Balladen aus dem Land vor unserer Zeit - Marek Arnold//Manuel Schmid//Dirk Zöllner//André Gensicke
DESCRIPTION:Weitere Informationen und Tickets: Tickets kaufen
URL:https://spreebote.de/veranstaltung/die-schoensten-balladen-aus-dem-land-vor-unserer-zeit-marek-arnold-manuel-schmid-dirk-zoellner-andre-gensicke/
LOCATION:Kulturfabrik Fürstenwalde\, Domplatz 7\, Fürstenwalde\, 15517\, Germany
END:VEVENT
BEGIN:VEVENT
DTSTART;TZID=Europe/Berlin:20260221T190000
DTEND;TZID=Europe/Berlin:20260221T210000
DTSTAMP:20260424T065821
CREATED:20251113T124559Z
LAST-MODIFIED:20251113T124559Z
UID:152945-1771700400-1771707600@spreebote.de
SUMMARY:Gastspiel Uckermärkische Bühnen Schwedt Love is in the air
DESCRIPTION:Weitere Informationen und Tickets: Tickets kaufen
URL:https://spreebote.de/veranstaltung/gastspiel-uckermaerkische-buehnen-schwedt-love-is-in-the-air/
LOCATION:Kulturfabrik Fürstenwalde\, Domplatz 7\, Fürstenwalde\, 15517\, Germany
END:VEVENT
BEGIN:VEVENT
DTSTART;TZID=Europe/Berlin:20260221T190000
DTEND;TZID=Europe/Berlin:20260221T190000
DTSTAMP:20260424T065821
CREATED:20260212T131938Z
LAST-MODIFIED:20260212T131938Z
UID:156838-1771700400-1771700400@spreebote.de
SUMMARY:Love is in the air
DESCRIPTION:Theaterstück der Uckermärkische Bühnen Schwedt\n\nDie Liebe. Es geht nicht mit ihr\, es geht nicht ohne sie. Gerade dann\, wenn man sich für ...   Weiterlesen
URL:https://spreebote.de/veranstaltung/love-is-in-the-air/
LOCATION:Kulturfabrik Fürstenwalde\, Domplatz 7\, Fürstenwalde\, 15517\, Germany
END:VEVENT
BEGIN:VEVENT
DTSTART;TZID=Europe/Berlin:20260207T190000
DTEND;TZID=Europe/Berlin:20260207T210000
DTSTAMP:20260424T065821
CREATED:20251113T124557Z
LAST-MODIFIED:20251113T124557Z
UID:152944-1770490800-1770498000@spreebote.de
SUMMARY:Kabarett von und mit LOTHAR BÖLCK Endspiel mit Verlängerung
DESCRIPTION:Weitere Informationen und Tickets: Tickets kaufen
URL:https://spreebote.de/veranstaltung/kabarett-von-und-mit-lothar-boelck-endspiel-mit-verlaengerung/
LOCATION:Kulturfabrik Fürstenwalde\, Domplatz 7\, Fürstenwalde\, 15517\, Germany
END:VEVENT
BEGIN:VEVENT
DTSTART;TZID=Europe/Berlin:20260201T180000
DTEND;TZID=Europe/Berlin:20260201T180000
DTSTAMP:20260424T065821
CREATED:20251127T165534Z
LAST-MODIFIED:20251127T165534Z
UID:153708-1769968800-1769968800@spreebote.de
SUMMARY:Zärtlichkeiten mit Freunden
DESCRIPTION:Musik-Kasperett- Alles muss\, nichts kann!\nAm 1. Februar lädt der Fürstenwalde Hof zu einem unvergesslichen Abend voller Humor\, Musik und absurdem Kabarett ein! \n\nDie bekannte Band „Zärtlichkeiten ...   Weiterlesen
URL:https://spreebote.de/veranstaltung/zaertlichkeiten-mit-freunden/
LOCATION:Fürstenwalder Hof\, Fürstenwalde
END:VEVENT
BEGIN:VEVENT
DTSTART;TZID=Europe/Berlin:20260131T190000
DTEND;TZID=Europe/Berlin:20260131T220000
DTSTAMP:20260424T065821
CREATED:20251113T124555Z
LAST-MODIFIED:20251113T124555Z
UID:152943-1769886000-1769896800@spreebote.de
SUMMARY:Eric Fish & Friends Auf den Grund
DESCRIPTION:Weitere Informationen und Tickets: Tickets kaufen
URL:https://spreebote.de/veranstaltung/eric-fish-friends-auf-den-grund/
LOCATION:Kulturfabrik Fürstenwalde\, Domplatz 7\, Fürstenwalde\, 15517\, Germany
END:VEVENT
BEGIN:VEVENT
DTSTART;TZID=Europe/Berlin:20260124T190000
DTEND;TZID=Europe/Berlin:20260124T210000
DTSTAMP:20260424T065821
CREATED:20251113T124553Z
LAST-MODIFIED:20251113T124553Z
UID:152942-1769281200-1769288400@spreebote.de
SUMMARY:Celtic Affair - Konzert
DESCRIPTION:Weitere Informationen und Tickets: Tickets kaufen
URL:https://spreebote.de/veranstaltung/celtic-affair-konzert/
LOCATION:Kulturfabrik Fürstenwalde\, Domplatz 7\, Fürstenwalde\, 15517\, Germany
END:VEVENT
BEGIN:VEVENT
DTSTART;TZID=Europe/Berlin:20260111T160000
DTEND;TZID=Europe/Berlin:20260111T180000
DTSTAMP:20260424T065821
CREATED:20251113T124550Z
LAST-MODIFIED:20251113T124550Z
UID:152941-1768147200-1768154400@spreebote.de
SUMMARY:Neujahrskonzert Chor kartu - Catch a falling star
DESCRIPTION:Weitere Informationen und Tickets: Tickets kaufen
URL:https://spreebote.de/veranstaltung/neujahrskonzert-chor-kartu-catch-a-falling-star/
LOCATION:Burg Storkow (Großer Saal)\, Schloßstraße 6\, Storkow (Mark)\, 15859
END:VEVENT
BEGIN:VEVENT
DTSTART;TZID=Europe/Berlin:20260109T190000
DTEND;TZID=Europe/Berlin:20260109T210000
DTSTAMP:20260424T065821
CREATED:20251113T124543Z
LAST-MODIFIED:20251113T124543Z
UID:152938-1767985200-1767992400@spreebote.de
SUMMARY:Geburtstagskonzert für Rio Reiser „Lieder zwischen Liebe und Widerstand“
DESCRIPTION:Weitere Informationen und Tickets: Tickets kaufen
URL:https://spreebote.de/veranstaltung/geburtstagskonzert-fuer-rio-reiser-lieder-zwischen-liebe-und-widerstand/
LOCATION:Kulturfabrik Fürstenwalde\, Domplatz 7\, Fürstenwalde\, 15517\, Germany
END:VEVENT
END:VCALENDAR